BEGIN:VCALENDAR
VERSION:2.0
PRODID:-//שיבננדה יוגה במטע - ECPv5.3.1.1//NONSGML v1.0//EN
CALSCALE:GREGORIAN
METHOD:PUBLISH
X-WR-CALNAME:שיבננדה יוגה במטע
X-ORIGINAL-URL:https://yogamata.co.il
X-WR-CALDESC:אירועים ל שיבננדה יוגה במטע
BEGIN:VTIMEZONE
TZID:UTC
BEGIN:STANDARD
TZOFFSETFROM:+0000
TZOFFSETTO:+0000
TZNAME:UTC
DTSTART:20210101T000000
END:STANDARD
END:VTIMEZONE
BEGIN:VEVENT
DTSTART;TZID=UTC:20211118T183000
DTEND;TZID=UTC:20211118T220000
DTSTAMP:20260424T202543
CREATED:20211021T130400Z
LAST-MODIFIED:20211021T132909Z
UID:9129-1637260200-1637272800@yogamata.co.il
SUMMARY:יומולדת לאשרם: מפגש מעורר מחשבה+ קונצרט מהפנט!
DESCRIPTION:בתוכנית:\n18:30-20:00 “שאלות קיומיות\, תשובות אלוהיות” עם סוואמי שמבהו-דבננדה\nמי אני? למה אני פה? האם יש לי רצון חופשי? ועוד…\nבמפגש נתבונן\, נחקור ובעיקר ננסה לחוות את העוצמה של נוכחות שאלות אלו בחיינו\, ושל האופן בו הן מעצבות את חיינו כפרטים\, כחברה וכציוויליזציה.\nנלמד מתשובותיהם של היוגים והאסכולות המיסטיות של הודו\, ונראה כמה אינם כה רחוקים וזרים מאיתנו\, כפי שאולי נראים במבט ראשון.\n20:00 צ’אי וממתק הודי\n20:30 Maya-Tri במופע מהפנט של מוזיקה הודית אותנטית\nדיאלוג מוזיקלי של סיטאר \,שירה וטאבלה. ביחד נצלול לתוך ראגות עתיקות ומוזיקה עממית של תרבות רחוקה וקסומה. \n \nמספר המקומות מוגבל \nכניסה בהרשמה מראש: 80 ש”ח (לכל הערב)\nבמקום: 100 ש”ח \nלהרשמה ופרטים נוספים:\nהתקשרו 050-3847540 או שלחו וואטספ 050-3847540
URL:https://yogamata.co.il/event/ashram-7-birthday-celebration/
ATTACH;FMTTYPE=image/jpeg:https://yogamata.co.il/wp-content/uploads/2021/10/IMG-20211021-WA0013.jpg
END:VEVENT
BEGIN:VEVENT
DTSTART;TZID=UTC:20211125T153000
DTEND;TZID=UTC:20211127T180000
DTSTAMP:20260424T202543
CREATED:20211001T071046Z
LAST-MODIFIED:20211114T101748Z
UID:8980-1637854200-1638036000@yogamata.co.il
SUMMARY:להגביר את האור:ריטריט יוגה וחשיבה חיובית
DESCRIPTION:יישום הטכניקות של החשיבה החיובית על בסיס קבוע יעניק לכם שפע של יתרונות\, ביניהם : \n\nתחושת שליטה פנימית \nיכולת מוגברת לניהול רגשות ללא הדחקה \nשיפור של איכות השינה וירידה ברמת לחץ וחרדה\nדימוי עצמי בריא ומאוזן\nעלייה באופטימיות\nרמות אנרגיה גבוהות ויציבות יותר\nתחושת ערך עצמי גבוה ובריאה\n\nהחיים שלנו אינם רצף אקראי של אירועים.\nהדרך בה אנו תופסים ומגיבים למציאות תלויה במידה רבה באופי שלנו ובהרגלי או דפוסי החשיבה שלנו\, בין אם חיוביים או שליליים.\n\nדפוסים אלה הנמצאים בתת המודע שלנו מוכתבים ומעוצבים\nעל ידי הרשמים אליהם אנו נחשפים\nוהפרשנות שלנו אודותם. \nהתחילו עכשיו במסע המופלא שלכם לגילוי כוחה של החשיבה חיובית!\n\nלמדו לעצב את הדפוסים התת-מודעים שלכם\nחוו כיצד הדפוסים הללו מתחילים לעבוד עבורכם\nכיצד הם מסייעים בזיהוי הזדמנויות\nויצירת האומץ והאופטימיות\nלהפוך אותן מפוטנציאל למציאות. \nכל זאת באווירת שבת מיוחדת וחמה הכוללת: קבלת שבת\, זמן תפילה\, ארוחות צמחוניות כשרות ועשירות וקרבה אל הטבע המופלא של הרי יהודה \nאין צורך בידע או רקע קודם.\nמתאים למתחילים ולמנוסים כאחד. \nהצטרפו אלינו!
URL:https://yogamata.co.il/event/positive-thinking-retreat/
ATTACH;FMTTYPE=image/jpeg:https://yogamata.co.il/wp-content/uploads/2021/10/facebook2.jpg
END:VEVENT
END:VCALENDAR